BEGIN:VCALENDAR
VERSION:2.0
PRODID:-//Schlagerpuls - ECPv6.15.13.1//NONSGML v1.0//EN
CALSCALE:GREGORIAN
METHOD:PUBLISH
X-WR-CALNAME:Schlagerpuls
X-ORIGINAL-URL:https://www.schlagerpuls.com
X-WR-CALDESC:Veranstaltungen für Schlagerpuls
REFRESH-INTERVAL;VALUE=DURATION:PT1H
X-Robots-Tag:noindex
X-PUBLISHED-TTL:PT1H
BEGIN:VTIMEZONE
TZID:Europe/Berlin
BEGIN:DAYLIGHT
TZOFFSETFROM:+0100
TZOFFSETTO:+0200
TZNAME:CEST
DTSTART:20230326T010000
END:DAYLIGHT
BEGIN:STANDARD
TZOFFSETFROM:+0200
TZOFFSETTO:+0100
TZNAME:CET
DTSTART:20231029T010000
END:STANDARD
BEGIN:DAYLIGHT
TZOFFSETFROM:+0100
TZOFFSETTO:+0200
TZNAME:CEST
DTSTART:20240331T010000
END:DAYLIGHT
BEGIN:STANDARD
TZOFFSETFROM:+0200
TZOFFSETTO:+0100
TZNAME:CET
DTSTART:20241027T010000
END:STANDARD
BEGIN:DAYLIGHT
TZOFFSETFROM:+0100
TZOFFSETTO:+0200
TZNAME:CEST
DTSTART:20250330T010000
END:DAYLIGHT
BEGIN:STANDARD
TZOFFSETFROM:+0200
TZOFFSETTO:+0100
TZNAME:CET
DTSTART:20251026T010000
END:STANDARD
BEGIN:DAYLIGHT
TZOFFSETFROM:+0100
TZOFFSETTO:+0200
TZNAME:CEST
DTSTART:20260329T010000
END:DAYLIGHT
BEGIN:STANDARD
TZOFFSETFROM:+0200
TZOFFSETTO:+0100
TZNAME:CET
DTSTART:20261025T010000
END:STANDARD
END:VTIMEZONE
BEGIN:VEVENT
DTSTART;TZID=Europe/Berlin:20241205T201500
DTEND;TZID=Europe/Berlin:20241205T220000
DTSTAMP:20260420T093928
CREATED:20241026T171919Z
LAST-MODIFIED:20241026T172059Z
UID:10000200-1733429700-1733436000@www.schlagerpuls.com
SUMMARY:Die schönsten Weihnachts-Hits (ZDF)
DESCRIPTION:Carmen Nebel führt zum letzten Mal durch die Spendengala „Die schönsten Weihnachts-Hits“. Hier alle bisherigen Infos dazu.
URL:https://www.schlagerpuls.com/event/die-schoensten-weihnachtshits-zdf/
CATEGORIES:TV-Sendungen
ATTACH;FMTTYPE=image/jpeg:https://www.schlagerpuls.com/wp-content/uploads/56b2c2b0-b532-4998-b5c2-1874f1ecc626.jpg
END:VEVENT
BEGIN:VEVENT
DTSTART;TZID=Europe/Berlin:20241206T201500
DTEND;TZID=Europe/Berlin:20241206T223000
DTSTAMP:20260420T093928
CREATED:20241026T171431Z
LAST-MODIFIED:20241026T172043Z
UID:10000199-1733516100-1733524200@www.schlagerpuls.com
SUMMARY:Weihnachten bei uns (MDR)
DESCRIPTION:Christin Stark und Peter Imhof präsentieren „Weihnachten bei uns“ live aus Bad Langensalza. Hier alle bisherigen Infos dazu.
URL:https://www.schlagerpuls.com/event/weihnachten-bei-uns-mdr/
CATEGORIES:TV-Sendungen
ATTACH;FMTTYPE=image/jpeg:https://www.schlagerpuls.com/wp-content/uploads/dsc_0419_edit_325679091591969-e1737664664359.jpg
END:VEVENT
BEGIN:VEVENT
DTSTART;TZID=Europe/Berlin:20241207T201500
DTEND;TZID=Europe/Berlin:20241207T221500
DTSTAMP:20260420T093928
CREATED:20241026T105348Z
LAST-MODIFIED:20241026T105348Z
UID:10000194-1733602500-1733609700@www.schlagerpuls.com
SUMMARY:Schlager-Spaß mit Andy Borg - NEUE Folge (SWR&MDR)
DESCRIPTION:Kultstar Andy Borg präsentiert eine neue Ausgabe von seinem beliebten „Schlager-Spaß“ mit tollen Gästen. Hier klicken für alle Infos.
URL:https://www.schlagerpuls.com/event/schlager-spass-mit-andy-borg-neue-folge-swrmdr/
CATEGORIES:TV-Sendungen
ATTACH;FMTTYPE=image/jpeg:https://www.schlagerpuls.com/wp-content/uploads/14115616_389470634-jpg_shift-1240x0_1btakj_lbiyhf.jpg
END:VEVENT
BEGIN:VEVENT
DTSTART;TZID=Europe/Berlin:20241207T201500
DTEND;TZID=Europe/Berlin:20241207T231500
DTSTAMP:20260420T093928
CREATED:20241204T130117Z
LAST-MODIFIED:20241204T130117Z
UID:10000203-1733602500-1733613300@www.schlagerpuls.com
SUMMARY:Ein Herz für Kinder - Spendengala (ZDF)
DESCRIPTION:Johannes B. Kerner präsentiert erneut die erfolgreichste Spendensendung im deutschen Fernsehen – die große Gala „Ein Herz für Kinder“. Auch 2024 machen sich wieder deutsche und internationale Prominente aus Show\, Sport\, Politik und Unterhaltung für den guten Zweck stark. Sie stellen Hilfsprojekte vor und nehmen am Telefon Spendengelder entgegen. Hier alle Infos und Gäste.
URL:https://www.schlagerpuls.com/event/ein-herz-fuer-kinder-spendengala-zdf/
CATEGORIES:TV-Sendungen
ATTACH;FMTTYPE=image/webp:https://www.schlagerpuls.com/wp-content/uploads/ein-herz-fuer-kinder-spendengala-zdf.webp
END:VEVENT
BEGIN:VEVENT
DTSTART;TZID=Europe/Berlin:20241220T201500
DTEND;TZID=Europe/Berlin:20241220T223000
DTSTAMP:20260420T093928
CREATED:20241204T130458Z
LAST-MODIFIED:20241204T130458Z
UID:10000204-1734725700-1734733800@www.schlagerpuls.com
SUMMARY:Zauberhafte Weihnacht im Land der Stillen Nacht (MDR)
DESCRIPTION:Musikalische Weihnachten aus der schönen Bergwelt des Salzburger Landes Inmitten der winterlichen Bergwelt des Salzburger Landes wird der Ort Flachau bereits zum elften Mal zur Kulisse für die „Zauberhafte Weihnacht im Land der ‚Stillen Nacht‘“. An der Seite von DJ Ötzi führt auch in diesem Jahr Stefanie Hertel als Gastgeberin durch den musikalisch-besinnlichen TV-Abend. Hier mehr Infos und alle Gäste.
URL:https://www.schlagerpuls.com/event/zauberhafte-weihnacht-im-land-der-stillen-nacht-mdr/
CATEGORIES:TV-Sendungen
ATTACH;FMTTYPE=image/jpeg:https://www.schlagerpuls.com/wp-content/uploads/zauberhafte-weihnacht-im-land-der-stillen-nacht-2024-gaeste-und-sendetermin-jetzt-offiziell.jpeg
END:VEVENT
BEGIN:VEVENT
DTSTART;TZID=Europe/Berlin:20241223T201500
DTEND;TZID=Europe/Berlin:20241223T223000
DTSTAMP:20260420T093928
CREATED:20240929T160725Z
LAST-MODIFIED:20240929T160725Z
UID:10000192-1734984900-1734993000@www.schlagerpuls.com
SUMMARY:"Udo Jürgens Forever – Die Show zu seinem 90. Geburtstag" (ARD)
DESCRIPTION:Mit Sasha und Michelle Hunziker als Moderatoren und vielen tollen Gästen ehrt man den unvergessenen Udo Jürgens. Hier alle Infos zur Show.
URL:https://www.schlagerpuls.com/event/udo-juergens-forever-die-show-zu-seinem-90-geburtstag-ard/
CATEGORIES:TV-Sendungen
ATTACH;FMTTYPE=image/jpeg:https://www.schlagerpuls.com/wp-content/uploads/udo-juergens-zu-seinem-90-geburtstag-zeigt-der-br-grosse-musik-show-und-neue-doku-hier-alle-infos.jpg
END:VEVENT
BEGIN:VEVENT
DTSTART;TZID=Europe/Berlin:20241224T201500
DTEND;TZID=Europe/Berlin:20241224T221500
DTSTAMP:20260420T093928
CREATED:20241026T170911Z
LAST-MODIFIED:20241217T212845Z
UID:10000198-1735071300-1735078500@www.schlagerpuls.com
SUMMARY:Weihnachten mit Andy Borg (SWR & MDR)
DESCRIPTION:Andy Borg präsentiert die diesjährige „Weihnactehn“-Sonderausgabe von seinem „Schlager-Spaß mit Andy Borg“.
URL:https://www.schlagerpuls.com/event/weihnachten-mit-andy-borg-swr/
CATEGORIES:TV-Sendungen
ATTACH;FMTTYPE=image/jpeg:https://www.schlagerpuls.com/wp-content/uploads/weihnachten-mit-andy-borg-2024-gaeste-infos-und-fotos.jpg
END:VEVENT
BEGIN:VEVENT
DTSTART;TZID=Europe/Berlin:20241225T201500
DTEND;TZID=Europe/Berlin:20241225T232000
DTSTAMP:20260420T093928
CREATED:20240929T153437Z
LAST-MODIFIED:20241220T110844Z
UID:10000132-1735157700-1735168800@www.schlagerpuls.com
SUMMARY:"Die Helene Fischer Show" (ZDF)
DESCRIPTION:Helene Fischer präsentiert eine neue Ausgabe ihrer Mega-Show im ZDF. Hier die ersten Infos.
URL:https://www.schlagerpuls.com/event/die-helene-fischer-show-zdf/
CATEGORIES:TV-Sendungen
ATTACH;FMTTYPE=image/png:https://www.schlagerpuls.com/wp-content/uploads/img_65faf130d2537.png
END:VEVENT
BEGIN:VEVENT
DTSTART;TZID=Europe/Berlin:20241228T201500
DTEND;TZID=Europe/Berlin:20241228T222800
DTSTAMP:20260420T093928
CREATED:20241204T130818Z
LAST-MODIFIED:20241204T130818Z
UID:10000205-1735416900-1735424880@www.schlagerpuls.com
SUMMARY:Die Schlager-Charts (MDR)
DESCRIPTION:Christin Stark präsentiert erstmals „Die Schlager-Charts“. Hier mehr dazu.
URL:https://www.schlagerpuls.com/event/die-schlager-charts-mdr/
CATEGORIES:TV-Sendungen
ATTACH;FMTTYPE=image/png:https://www.schlagerpuls.com/wp-content/uploads/img_65faf176106d7-e1737812009556.png
END:VEVENT
BEGIN:VEVENT
DTSTART;TZID=Europe/Berlin:20241231T201500
DTEND;TZID=Europe/Berlin:20250101T002000
DTSTAMP:20260420T093928
CREATED:20241026T172549Z
LAST-MODIFIED:20241218T123735Z
UID:10000201-1735676100-1735690800@www.schlagerpuls.com
SUMMARY:Silvester-Schlagerbooom 2025 live – Die Wunderlichtershow!
DESCRIPTION:Florian Silbereisen präsentiert erstmals den „Silvester-Schlagerbooom“ – live aus München! Hier alle Infos dazu!
URL:https://www.schlagerpuls.com/event/silvester-schlagerbooom-2025-live-die-wunderlichtershow/
CATEGORIES:TV-Sendungen
ATTACH;FMTTYPE=image/jpeg:https://www.schlagerpuls.com/wp-content/uploads/das-grosse-schlagercomeback-2022-die-schoensten-fotos.jpg
END:VEVENT
END:VCALENDAR