BEGIN:VCALENDAR
VERSION:2.0
PRODID:-//Schlagerpuls - ECPv6.15.13.1//NONSGML v1.0//EN
CALSCALE:GREGORIAN
METHOD:PUBLISH
X-WR-CALNAME:Schlagerpuls
X-ORIGINAL-URL:https://www.schlagerpuls.com
X-WR-CALDESC:Veranstaltungen für Schlagerpuls
REFRESH-INTERVAL;VALUE=DURATION:PT1H
X-Robots-Tag:noindex
X-PUBLISHED-TTL:PT1H
BEGIN:VTIMEZONE
TZID:Europe/Berlin
BEGIN:DAYLIGHT
TZOFFSETFROM:+0100
TZOFFSETTO:+0200
TZNAME:CEST
DTSTART:20230326T010000
END:DAYLIGHT
BEGIN:STANDARD
TZOFFSETFROM:+0200
TZOFFSETTO:+0100
TZNAME:CET
DTSTART:20231029T010000
END:STANDARD
BEGIN:DAYLIGHT
TZOFFSETFROM:+0100
TZOFFSETTO:+0200
TZNAME:CEST
DTSTART:20240331T010000
END:DAYLIGHT
BEGIN:STANDARD
TZOFFSETFROM:+0200
TZOFFSETTO:+0100
TZNAME:CET
DTSTART:20241027T010000
END:STANDARD
BEGIN:DAYLIGHT
TZOFFSETFROM:+0100
TZOFFSETTO:+0200
TZNAME:CEST
DTSTART:20250330T010000
END:DAYLIGHT
BEGIN:STANDARD
TZOFFSETFROM:+0200
TZOFFSETTO:+0100
TZNAME:CET
DTSTART:20251026T010000
END:STANDARD
END:VTIMEZONE
BEGIN:VEVENT
DTSTART;TZID=Europe/Berlin:20241101T201500
DTEND;TZID=Europe/Berlin:20241101T214500
DTSTAMP:20260420T080023
CREATED:20241026T170107Z
LAST-MODIFIED:20241026T170107Z
UID:10000195-1730492100-1730497500@www.schlagerpuls.com
SUMMARY:Die Schlager des Monats (MDR)
DESCRIPTION:Christin Stark präsentiert eine neue Ausgabe ihrer beliebten Show – hier erfahrt ihr alle Gäste und mehr.
URL:https://www.schlagerpuls.com/event/die-schlager-des-monats-mdr-5/
CATEGORIES:TV-Sendungen
ATTACH;FMTTYPE=image/webp:https://www.schlagerpuls.com/wp-content/uploads/die-schlager-des-monats-mdr.webp
END:VEVENT
BEGIN:VEVENT
DTSTART;TZID=Europe/Berlin:20241116T201500
DTEND;TZID=Europe/Berlin:20241116T214500
DTSTAMP:20260420T080023
CREATED:20241026T170332Z
LAST-MODIFIED:20241026T170332Z
UID:10000196-1731788100-1731793500@www.schlagerpuls.com
SUMMARY:Schlager-Spaß mit Andy Borg - Das Beste (SWR)
DESCRIPTION:Andy Borg präsentiert ein neues Best-Of mit vielen Highlights der letzten „Schlager-Spaß“-Ausgaben! Wir haben alle Infos zum Special.
URL:https://www.schlagerpuls.com/event/schlager-spass-mit-andy-borg-das-beste-swr-2/
CATEGORIES:TV-Sendungen
ATTACH;FMTTYPE=image/jpeg:https://www.schlagerpuls.com/wp-content/uploads/14115616_389470634-jpg_shift-1240x0_1btakj_lbiyhf.jpg
END:VEVENT
BEGIN:VEVENT
DTSTART;TZID=Europe/Berlin:20241122T201500
DTEND;TZID=Europe/Berlin:20241122T231500
DTSTAMP:20260420T080023
CREATED:20241026T170552Z
LAST-MODIFIED:20241026T170552Z
UID:10000197-1732306500-1732317300@www.schlagerpuls.com
SUMMARY:Schlager-Spaß mit Andy Borg - Für die Herzenssache (SWR)
DESCRIPTION:Andy Borg präsentiert die diesjährige „Herzenssache“-Sonderausgabe von seinem „Schlager-Spaß mit Andy Borg“. Hier alle Infos dazu.
URL:https://www.schlagerpuls.com/event/schlager-spass-mit-andy-borg-herzenssache-swr/
CATEGORIES:TV-Sendungen
ATTACH;FMTTYPE=image/jpeg:https://www.schlagerpuls.com/wp-content/uploads/14115616_389470634-jpg_shift-1240x0_1btakj_lbiyhf.jpg
END:VEVENT
BEGIN:VEVENT
DTSTART;TZID=Europe/Berlin:20241129T201500
DTEND;TZID=Europe/Berlin:20241129T214500
DTSTAMP:20260420T080023
CREATED:20241026T172753Z
LAST-MODIFIED:20241026T172753Z
UID:10000202-1732911300-1732916700@www.schlagerpuls.com
SUMMARY:Die Schlager des Monats (MDR)
DESCRIPTION:Christin Stark präsentiert eine neue Ausgabe ihrer beliebten Show.
URL:https://www.schlagerpuls.com/event/die-schlager-des-monats-mdr-6/
CATEGORIES:TV-Sendungen
ATTACH;FMTTYPE=image/webp:https://www.schlagerpuls.com/wp-content/uploads/die-schlager-des-monats-mdr.webp
END:VEVENT
BEGIN:VEVENT
DTSTART;TZID=Europe/Berlin:20241130T201500
DTEND;TZID=Europe/Berlin:20241130T233500
DTSTAMP:20260420T080023
CREATED:20240929T154138Z
LAST-MODIFIED:20241026T172119Z
UID:10000133-1732997700-1733009700@www.schlagerpuls.com
SUMMARY:Das Adventsfest der 100.000 Lichter (ARD)
DESCRIPTION:Florian Silbereisen präsentiert traditionell „Das Adventsfest der 100.000 Lichter“. Hier die ersten Infos zur Show.
URL:https://www.schlagerpuls.com/event/das-adventsfest-der-100-000-lichter-ard/
CATEGORIES:TV-Sendungen
ATTACH;FMTTYPE=image/png:https://www.schlagerpuls.com/wp-content/uploads/img_65faf0ec1fc5d.png
END:VEVENT
END:VCALENDAR