BEGIN:VCALENDAR
VERSION:2.0
PRODID:-//Schlagerpuls - ECPv6.15.13.1//NONSGML v1.0//EN
CALSCALE:GREGORIAN
METHOD:PUBLISH
X-WR-CALNAME:Schlagerpuls
X-ORIGINAL-URL:https://www.schlagerpuls.com
X-WR-CALDESC:Veranstaltungen für Schlagerpuls
REFRESH-INTERVAL;VALUE=DURATION:PT1H
X-Robots-Tag:noindex
X-PUBLISHED-TTL:PT1H
BEGIN:VTIMEZONE
TZID:Europe/Berlin
BEGIN:DAYLIGHT
TZOFFSETFROM:+0100
TZOFFSETTO:+0200
TZNAME:CEST
DTSTART:20240331T010000
END:DAYLIGHT
BEGIN:STANDARD
TZOFFSETFROM:+0200
TZOFFSETTO:+0100
TZNAME:CET
DTSTART:20241027T010000
END:STANDARD
BEGIN:DAYLIGHT
TZOFFSETFROM:+0100
TZOFFSETTO:+0200
TZNAME:CEST
DTSTART:20250330T010000
END:DAYLIGHT
BEGIN:STANDARD
TZOFFSETFROM:+0200
TZOFFSETTO:+0100
TZNAME:CET
DTSTART:20251026T010000
END:STANDARD
BEGIN:DAYLIGHT
TZOFFSETFROM:+0100
TZOFFSETTO:+0200
TZNAME:CEST
DTSTART:20260329T010000
END:DAYLIGHT
BEGIN:STANDARD
TZOFFSETFROM:+0200
TZOFFSETTO:+0100
TZNAME:CET
DTSTART:20261025T010000
END:STANDARD
END:VTIMEZONE
BEGIN:VEVENT
DTSTART;TZID=Europe/Berlin:20250314T201500
DTEND;TZID=Europe/Berlin:20250314T214500
DTSTAMP:20260424T180525
CREATED:20250127T182730Z
LAST-MODIFIED:20250127T182730Z
UID:10000221-1741983300-1741988700@www.schlagerpuls.com
SUMMARY:Die Schlagerhitparade (MDR)
DESCRIPTION:Christin Stark präsentiert erstmals die „Schlagerhitparade“. Hier mehr dazu.
URL:https://www.schlagerpuls.com/event/die-schlagerhitparade-mdr/
CATEGORIES:TV-Sendungen
ATTACH;FMTTYPE=image/png:https://www.schlagerpuls.com/wp-content/uploads/img_65faf176106d7-e1737812009556.png
END:VEVENT
END:VCALENDAR