BEGIN:VCALENDAR
VERSION:2.0
PRODID:-//Schlagerpuls - ECPv6.15.13.1//NONSGML v1.0//EN
CALSCALE:GREGORIAN
METHOD:PUBLISH
X-WR-CALNAME:Schlagerpuls
X-ORIGINAL-URL:https://www.schlagerpuls.com
X-WR-CALDESC:Veranstaltungen für Schlagerpuls
REFRESH-INTERVAL;VALUE=DURATION:PT1H
X-Robots-Tag:noindex
X-PUBLISHED-TTL:PT1H
BEGIN:VTIMEZONE
TZID:Europe/Berlin
BEGIN:DAYLIGHT
TZOFFSETFROM:+0100
TZOFFSETTO:+0200
TZNAME:CEST
DTSTART:20240331T010000
END:DAYLIGHT
BEGIN:STANDARD
TZOFFSETFROM:+0200
TZOFFSETTO:+0100
TZNAME:CET
DTSTART:20241027T010000
END:STANDARD
BEGIN:DAYLIGHT
TZOFFSETFROM:+0100
TZOFFSETTO:+0200
TZNAME:CEST
DTSTART:20250330T010000
END:DAYLIGHT
BEGIN:STANDARD
TZOFFSETFROM:+0200
TZOFFSETTO:+0100
TZNAME:CET
DTSTART:20251026T010000
END:STANDARD
BEGIN:DAYLIGHT
TZOFFSETFROM:+0100
TZOFFSETTO:+0200
TZNAME:CEST
DTSTART:20260329T010000
END:DAYLIGHT
BEGIN:STANDARD
TZOFFSETFROM:+0200
TZOFFSETTO:+0100
TZNAME:CET
DTSTART:20261025T010000
END:STANDARD
END:VTIMEZONE
BEGIN:VEVENT
DTSTART;TZID=Europe/Berlin:20250125T201500
DTEND;TZID=Europe/Berlin:20250125T221500
DTSTAMP:20260424T175755
CREATED:20241218T125424Z
LAST-MODIFIED:20250120T195835Z
UID:10000215-1737836100-1737843300@www.schlagerpuls.com
SUMMARY:Schlager-Spaß mit Andy Borg - NEUE Folge (SWR)
DESCRIPTION:Kultstar Andy Borg präsentiert eine neue Ausgabe von seinem beliebten „Schlager-Spaß“ mit tollen Gästen. Hier klicken für alle Infos.
URL:https://www.schlagerpuls.com/event/schlager-spass-mit-andy-borg-neue-folge-swr-2/
CATEGORIES:TV-Sendungen
ATTACH;FMTTYPE=image/jpeg:https://www.schlagerpuls.com/wp-content/uploads/14115616_389470634-jpg_shift-1240x0_1btakj_lbiyhf.jpg
END:VEVENT
BEGIN:VEVENT
DTSTART;TZID=Europe/Berlin:20250125T201500
DTEND;TZID=Europe/Berlin:20250125T224500
DTSTAMP:20260424T175755
CREATED:20241218T125232Z
LAST-MODIFIED:20241221T130544Z
UID:10000214-1737836100-1737845100@www.schlagerpuls.com
SUMMARY:Wenn die Musi spielt - Winter Open Air (MDR)
DESCRIPTION:Das Moderationsduo Stefanie Hertel und Marco Ventre präsentieren eine neue Ausgabe vom Winter Open Air. Hier alle Infos.
URL:https://www.schlagerpuls.com/event/wenn-die-musi-spielt-winter-open-air-mdr/
CATEGORIES:TV-Sendungen
ATTACH;FMTTYPE=image/jpeg:https://www.schlagerpuls.com/wp-content/uploads/schlagerpuls-adventskalender-gewinnt-tickets-fuer-das-wenn-die-musi-spielt-winter-open-air.jpg
END:VEVENT
END:VCALENDAR