BEGIN:VCALENDAR
VERSION:2.0
PRODID:-//Schlagerpuls - ECPv6.15.13.1//NONSGML v1.0//EN
CALSCALE:GREGORIAN
METHOD:PUBLISH
X-WR-CALNAME:Schlagerpuls
X-ORIGINAL-URL:https://www.schlagerpuls.com
X-WR-CALDESC:Veranstaltungen für Schlagerpuls
REFRESH-INTERVAL;VALUE=DURATION:PT1H
X-Robots-Tag:noindex
X-PUBLISHED-TTL:PT1H
BEGIN:VTIMEZONE
TZID:Europe/Berlin
BEGIN:DAYLIGHT
TZOFFSETFROM:+0100
TZOFFSETTO:+0200
TZNAME:CEST
DTSTART:20240331T010000
END:DAYLIGHT
BEGIN:STANDARD
TZOFFSETFROM:+0200
TZOFFSETTO:+0100
TZNAME:CET
DTSTART:20241027T010000
END:STANDARD
BEGIN:DAYLIGHT
TZOFFSETFROM:+0100
TZOFFSETTO:+0200
TZNAME:CEST
DTSTART:20250330T010000
END:DAYLIGHT
BEGIN:STANDARD
TZOFFSETFROM:+0200
TZOFFSETTO:+0100
TZNAME:CET
DTSTART:20251026T010000
END:STANDARD
BEGIN:DAYLIGHT
TZOFFSETFROM:+0100
TZOFFSETTO:+0200
TZNAME:CEST
DTSTART:20260329T010000
END:DAYLIGHT
BEGIN:STANDARD
TZOFFSETFROM:+0200
TZOFFSETTO:+0100
TZNAME:CET
DTSTART:20261025T010000
END:STANDARD
END:VTIMEZONE
BEGIN:VEVENT
DTSTART;TZID=Europe/Berlin:20250111T201500
DTEND;TZID=Europe/Berlin:20250111T233500
DTSTAMP:20260422T152637
CREATED:20241204T131603Z
LAST-MODIFIED:20241204T131620Z
UID:10000208-1736626500-1736638500@www.schlagerpuls.com
SUMMARY:Schlagerchampions - Das große Fest der Besten
DESCRIPTION:Florian Silbereisen feiert auch 2025 die „Schlagerchampions“ in Berlin! Hier geht’s zu allen Infos und den ersten Gästen!
URL:https://www.schlagerpuls.com/event/schlagerchampions-das-grosse-fest-der-besten/
CATEGORIES:TV-Sendungen
ATTACH;FMTTYPE=image/png:https://www.schlagerpuls.com/wp-content/uploads/img_66041119b5528.png
END:VEVENT
END:VCALENDAR