BEGIN:VCALENDAR
VERSION:2.0
PRODID:-//Schlagerpuls - ECPv6.15.13.1//NONSGML v1.0//EN
CALSCALE:GREGORIAN
METHOD:PUBLISH
X-WR-CALNAME:Schlagerpuls
X-ORIGINAL-URL:https://www.schlagerpuls.com
X-WR-CALDESC:Veranstaltungen für Schlagerpuls
REFRESH-INTERVAL;VALUE=DURATION:PT1H
X-Robots-Tag:noindex
X-PUBLISHED-TTL:PT1H
BEGIN:VTIMEZONE
TZID:Europe/Berlin
BEGIN:DAYLIGHT
TZOFFSETFROM:+0100
TZOFFSETTO:+0200
TZNAME:CEST
DTSTART:20230326T010000
END:DAYLIGHT
BEGIN:STANDARD
TZOFFSETFROM:+0200
TZOFFSETTO:+0100
TZNAME:CET
DTSTART:20231029T010000
END:STANDARD
BEGIN:DAYLIGHT
TZOFFSETFROM:+0100
TZOFFSETTO:+0200
TZNAME:CEST
DTSTART:20240331T010000
END:DAYLIGHT
BEGIN:STANDARD
TZOFFSETFROM:+0200
TZOFFSETTO:+0100
TZNAME:CET
DTSTART:20241027T010000
END:STANDARD
BEGIN:DAYLIGHT
TZOFFSETFROM:+0100
TZOFFSETTO:+0200
TZNAME:CEST
DTSTART:20250330T010000
END:DAYLIGHT
BEGIN:STANDARD
TZOFFSETFROM:+0200
TZOFFSETTO:+0100
TZNAME:CET
DTSTART:20251026T010000
END:STANDARD
END:VTIMEZONE
BEGIN:VEVENT
DTSTART;TZID=Europe/Berlin:20241223T201500
DTEND;TZID=Europe/Berlin:20241223T223000
DTSTAMP:20260422T105747
CREATED:20240929T160725Z
LAST-MODIFIED:20240929T160725Z
UID:10000192-1734984900-1734993000@www.schlagerpuls.com
SUMMARY:"Udo Jürgens Forever – Die Show zu seinem 90. Geburtstag" (ARD)
DESCRIPTION:Mit Sasha und Michelle Hunziker als Moderatoren und vielen tollen Gästen ehrt man den unvergessenen Udo Jürgens. Hier alle Infos zur Show.
URL:https://www.schlagerpuls.com/event/udo-juergens-forever-die-show-zu-seinem-90-geburtstag-ard/
CATEGORIES:TV-Sendungen
ATTACH;FMTTYPE=image/jpeg:https://www.schlagerpuls.com/wp-content/uploads/udo-juergens-zu-seinem-90-geburtstag-zeigt-der-br-grosse-musik-show-und-neue-doku-hier-alle-infos.jpg
END:VEVENT
END:VCALENDAR