BEGIN:VCALENDAR
VERSION:2.0
PRODID:-//Schlagerpuls - ECPv6.15.13.1//NONSGML v1.0//EN
CALSCALE:GREGORIAN
METHOD:PUBLISH
X-WR-CALNAME:Schlagerpuls
X-ORIGINAL-URL:https://www.schlagerpuls.com
X-WR-CALDESC:Veranstaltungen für Schlagerpuls
REFRESH-INTERVAL;VALUE=DURATION:PT1H
X-Robots-Tag:noindex
X-PUBLISHED-TTL:PT1H
BEGIN:VTIMEZONE
TZID:Europe/Berlin
BEGIN:DAYLIGHT
TZOFFSETFROM:+0100
TZOFFSETTO:+0200
TZNAME:CEST
DTSTART:20230326T010000
END:DAYLIGHT
BEGIN:STANDARD
TZOFFSETFROM:+0200
TZOFFSETTO:+0100
TZNAME:CET
DTSTART:20231029T010000
END:STANDARD
BEGIN:DAYLIGHT
TZOFFSETFROM:+0100
TZOFFSETTO:+0200
TZNAME:CEST
DTSTART:20240331T010000
END:DAYLIGHT
BEGIN:STANDARD
TZOFFSETFROM:+0200
TZOFFSETTO:+0100
TZNAME:CET
DTSTART:20241027T010000
END:STANDARD
BEGIN:DAYLIGHT
TZOFFSETFROM:+0100
TZOFFSETTO:+0200
TZNAME:CEST
DTSTART:20250330T010000
END:DAYLIGHT
BEGIN:STANDARD
TZOFFSETFROM:+0200
TZOFFSETTO:+0100
TZNAME:CET
DTSTART:20251026T010000
END:STANDARD
END:VTIMEZONE
BEGIN:VEVENT
DTSTART;TZID=Europe/Berlin:20241220T201500
DTEND;TZID=Europe/Berlin:20241220T223000
DTSTAMP:20260420T111408
CREATED:20241204T130458Z
LAST-MODIFIED:20241204T130458Z
UID:10000204-1734725700-1734733800@www.schlagerpuls.com
SUMMARY:Zauberhafte Weihnacht im Land der Stillen Nacht (MDR)
DESCRIPTION:Musikalische Weihnachten aus der schönen Bergwelt des Salzburger Landes Inmitten der winterlichen Bergwelt des Salzburger Landes wird der Ort Flachau bereits zum elften Mal zur Kulisse für die „Zauberhafte Weihnacht im Land der ‚Stillen Nacht‘“. An der Seite von DJ Ötzi führt auch in diesem Jahr Stefanie Hertel als Gastgeberin durch den musikalisch-besinnlichen TV-Abend. Hier mehr Infos und alle Gäste.
URL:https://www.schlagerpuls.com/event/zauberhafte-weihnacht-im-land-der-stillen-nacht-mdr/
CATEGORIES:TV-Sendungen
ATTACH;FMTTYPE=image/jpeg:https://www.schlagerpuls.com/wp-content/uploads/zauberhafte-weihnacht-im-land-der-stillen-nacht-2024-gaeste-und-sendetermin-jetzt-offiziell.jpeg
END:VEVENT
END:VCALENDAR