BEGIN:VCALENDAR
VERSION:2.0
PRODID:-//Schlagerpuls - ECPv6.15.13.1//NONSGML v1.0//EN
CALSCALE:GREGORIAN
METHOD:PUBLISH
X-ORIGINAL-URL:https://www.schlagerpuls.com
X-WR-CALDESC:Veranstaltungen für Schlagerpuls
REFRESH-INTERVAL;VALUE=DURATION:PT1H
X-Robots-Tag:noindex
X-PUBLISHED-TTL:PT1H
BEGIN:VTIMEZONE
TZID:Europe/Berlin
BEGIN:DAYLIGHT
TZOFFSETFROM:+0100
TZOFFSETTO:+0200
TZNAME:CEST
DTSTART:20230326T010000
END:DAYLIGHT
BEGIN:STANDARD
TZOFFSETFROM:+0200
TZOFFSETTO:+0100
TZNAME:CET
DTSTART:20231029T010000
END:STANDARD
BEGIN:DAYLIGHT
TZOFFSETFROM:+0100
TZOFFSETTO:+0200
TZNAME:CEST
DTSTART:20240331T010000
END:DAYLIGHT
BEGIN:STANDARD
TZOFFSETFROM:+0200
TZOFFSETTO:+0100
TZNAME:CET
DTSTART:20241027T010000
END:STANDARD
BEGIN:DAYLIGHT
TZOFFSETFROM:+0100
TZOFFSETTO:+0200
TZNAME:CEST
DTSTART:20250330T010000
END:DAYLIGHT
BEGIN:STANDARD
TZOFFSETFROM:+0200
TZOFFSETTO:+0100
TZNAME:CET
DTSTART:20251026T010000
END:STANDARD
END:VTIMEZONE
BEGIN:VEVENT
DTSTART;TZID=Europe/Berlin:20241013T120000
DTEND;TZID=Europe/Berlin:20241013T141000
DTSTAMP:20260420T111429
CREATED:20240929T154817Z
LAST-MODIFIED:20240929T154958Z
UID:10000135-1728820800-1728828600@www.schlagerpuls.com
SUMMARY:"ZDF-Fernsehgarten on Tour" (ZDF)
DESCRIPTION:Moderatorin Andrea Kiewel präsentiert eine Sonderausgabe vom ZDF-Fernsehgarten\, live aus Schwerin!
URL:https://www.schlagerpuls.com/event/zdf-fernsehgarten-on-tour-zdf/2024-10-13/
CATEGORIES:TV-Sendungen
ATTACH;FMTTYPE=image/webp:https://www.schlagerpuls.com/wp-content/uploads/ticket_toaster_headerimage_1170x600_fernsehgarten_herbst_1663657549.webp
END:VEVENT
END:VCALENDAR